BEGIN:VCALENDAR
VERSION:2.0
PRODID:-//Greifbar Friedrichshafen - ECPv6.15.19//NONSGML v1.0//EN
CALSCALE:GREGORIAN
METHOD:PUBLISH
X-ORIGINAL-URL:https://greifbar-bouldern.de
X-WR-CALDESC:Veranstaltungen für Greifbar Friedrichshafen
REFRESH-INTERVAL;VALUE=DURATION:PT1H
X-Robots-Tag:noindex
X-PUBLISHED-TTL:PT1H
BEGIN:VTIMEZONE
TZID:Europe/Berlin
BEGIN:DAYLIGHT
TZOFFSETFROM:+0100
TZOFFSETTO:+0200
TZNAME:CEST
DTSTART:20230326T010000
END:DAYLIGHT
BEGIN:STANDARD
TZOFFSETFROM:+0200
TZOFFSETTO:+0100
TZNAME:CET
DTSTART:20231029T010000
END:STANDARD
BEGIN:DAYLIGHT
TZOFFSETFROM:+0100
TZOFFSETTO:+0200
TZNAME:CEST
DTSTART:20240331T010000
END:DAYLIGHT
BEGIN:STANDARD
TZOFFSETFROM:+0200
TZOFFSETTO:+0100
TZNAME:CET
DTSTART:20241027T010000
END:STANDARD
BEGIN:DAYLIGHT
TZOFFSETFROM:+0100
TZOFFSETTO:+0200
TZNAME:CEST
DTSTART:20250330T010000
END:DAYLIGHT
BEGIN:STANDARD
TZOFFSETFROM:+0200
TZOFFSETTO:+0100
TZNAME:CET
DTSTART:20251026T010000
END:STANDARD
END:VTIMEZONE
BEGIN:VEVENT
DTSTART;VALUE=DATE:20241122
DTEND;VALUE=DATE:20241124
DTSTAMP:20260425T044006
CREATED:20240129T132011Z
LAST-MODIFIED:20241101T213500Z
UID:7394-1732233600-1732406399@greifbar-bouldern.de
SUMMARY:Vertical Comp 2024
DESCRIPTION:Die VERTICAL COMP ein Wettkampf für ALLE\nAuch dieses Jahr kannst du gemeinsam und hautnah mit Profisportler:innen aus aller Welt in der Qualifikationsrunde gegeneinander antreten\, um dir einen der begehrten Plätze im Finale zu sichern. \nGeile Boulder an den neuesten Griffsets namhafter Hersteller und professionelles Setting von internationalen Routenschrauber:innen. \nUm die Quali der Vertical Comp für Euch so entspannt wie möglich zu gestalten\, haben wir uns überlegt\, diese auf 2 Tage aufzuteilen. Ihr könnt also ganz entspannt entscheiden\, ob Ihr am Freitag oder am Samstag zur Quali kommt. An beiden Tagen könnt Ihr allerdings nicht an der Qualifikation teilnehmen. \nAblauf der Vertical-Comp 2024\nQualifikation*:\nFreitag\, 22. Nov (12-22) Samstag\, 23. Nov (10-16 Uhr) \n*Quali-Teilnahme nur an einem der beiden Tage möglich. Entweder Freitag oder Samstag \nFinale:\nSa (23.11) ab 18:30 Uhr im Anschluss Party \nMehr Informationen und Anmeldung findest du unter Hier
URL:https://greifbar-bouldern.de/event/vertical-comp-2024/
LOCATION:Greifbar Friedrichshafen\, Anton-Sommer-Straße 8\, Friedrichshafen\, Baden-Württemberg\, 88046
ATTACH;FMTTYPE=image/jpeg:https://greifbar-bouldern.de/wp-content/uploads/2024/01/Kopie-von-23_VERTICAL-COMP-insta-story-Your-Story.jpg
END:VEVENT
END:VCALENDAR